BEGIN:VCALENDAR
VERSION:2.0
PRODID:-//CFA - ECPv6.15.20//NONSGML v1.0//EN
CALSCALE:GREGORIAN
METHOD:PUBLISH
X-WR-CALNAME:CFA
X-ORIGINAL-URL:https://www.cfali.org
X-WR-CALDESC:Events for CFA
REFRESH-INTERVAL;VALUE=DURATION:PT1H
X-Robots-Tag:noindex
X-PUBLISHED-TTL:PT1H
BEGIN:VTIMEZONE
TZID:America/New_York
BEGIN:DAYLIGHT
TZOFFSETFROM:-0500
TZOFFSETTO:-0400
TZNAME:EDT
DTSTART:20250309T070000
END:DAYLIGHT
BEGIN:STANDARD
TZOFFSETFROM:-0400
TZOFFSETTO:-0500
TZNAME:EST
DTSTART:20251102T060000
END:STANDARD
BEGIN:DAYLIGHT
TZOFFSETFROM:-0500
TZOFFSETTO:-0400
TZNAME:EDT
DTSTART:20260308T070000
END:DAYLIGHT
BEGIN:STANDARD
TZOFFSETFROM:-0400
TZOFFSETTO:-0500
TZNAME:EST
DTSTART:20261101T060000
END:STANDARD
BEGIN:DAYLIGHT
TZOFFSETFROM:-0500
TZOFFSETTO:-0400
TZNAME:EDT
DTSTART:20270314T070000
END:DAYLIGHT
BEGIN:STANDARD
TZOFFSETFROM:-0400
TZOFFSETTO:-0500
TZNAME:EST
DTSTART:20271107T060000
END:STANDARD
END:VTIMEZONE
BEGIN:VEVENT
DTSTART;TZID=America/New_York:20260112T200000
DTEND;TZID=America/New_York:20260112T210000
DTSTAMP:20260424T134908
CREATED:20260112T233259Z
LAST-MODIFIED:20260112T235650Z
UID:572-1768248000-1768251600@www.cfali.org
SUMMARY:Board of Education Meeting
DESCRIPTION:Board of Education Regular Meeting 8:00pm at Otsego Elem (Exec Session 6:30pm) \n 
URL:https://www.cfali.org/event/board-of-education-meeting/
LOCATION:Otsego\, 55 Otsego Ave\, Dix Hills\, NY\, 11746\, United States
END:VEVENT
END:VCALENDAR