BEGIN:VCALENDAR
VERSION:2.0
PRODID:-//CFA - ECPv6.15.20//NONSGML v1.0//EN
CALSCALE:GREGORIAN
METHOD:PUBLISH
X-WR-CALNAME:CFA
X-ORIGINAL-URL:https://www.cfali.org
X-WR-CALDESC:Events for CFA
REFRESH-INTERVAL;VALUE=DURATION:PT1H
X-Robots-Tag:noindex
X-PUBLISHED-TTL:PT1H
BEGIN:VTIMEZONE
TZID:America/New_York
BEGIN:DAYLIGHT
TZOFFSETFROM:-0500
TZOFFSETTO:-0400
TZNAME:EDT
DTSTART:20250309T070000
END:DAYLIGHT
BEGIN:STANDARD
TZOFFSETFROM:-0400
TZOFFSETTO:-0500
TZNAME:EST
DTSTART:20251102T060000
END:STANDARD
BEGIN:DAYLIGHT
TZOFFSETFROM:-0500
TZOFFSETTO:-0400
TZNAME:EDT
DTSTART:20260308T070000
END:DAYLIGHT
BEGIN:STANDARD
TZOFFSETFROM:-0400
TZOFFSETTO:-0500
TZNAME:EST
DTSTART:20261101T060000
END:STANDARD
BEGIN:DAYLIGHT
TZOFFSETFROM:-0500
TZOFFSETTO:-0400
TZNAME:EDT
DTSTART:20270314T070000
END:DAYLIGHT
BEGIN:STANDARD
TZOFFSETFROM:-0400
TZOFFSETTO:-0500
TZNAME:EST
DTSTART:20271107T060000
END:STANDARD
END:VTIMEZONE
BEGIN:VEVENT
DTSTART;TZID=America/New_York:20260128T193000
DTEND;TZID=America/New_York:20260128T203000
DTSTAMP:20260424T124830
CREATED:20260122T231115Z
LAST-MODIFIED:20260122T231115Z
UID:626-1769628600-1769632200@www.cfali.org
SUMMARY:2026 Xbox/Playstation Event
DESCRIPTION:Join Zoom Meeting \nhttps://us06web.zoom.us/j/88541824907?pwd=hWQdsC35ZA6bE6Y1x9C8ORyMb2mnHm.1 \nMeeting ID: 885 4182 4907 \nPasscode: 129070 \n— \nOne tap mobile \n+19292056099\,\,88541824907#\,\,\,\,*129070# US (New York) \n+16469313860\,\,88541824907#\,\,\,\,*129070# US \nJoin instructions \nhttps://us06web.zoom.us/meetings/88541824907/invitations?signature=cIRzIEUKOHAr3heKqTY_Y38-ejWTo9Wa3mhOhtxYvtc \n──────────
URL:https://www.cfali.org/event/2026-xbox-playstation-event/
LOCATION:NY
END:VEVENT
END:VCALENDAR