BEGIN:VCALENDAR
VERSION:2.0
PRODID:-//CFA - ECPv6.15.20//NONSGML v1.0//EN
CALSCALE:GREGORIAN
METHOD:PUBLISH
X-WR-CALNAME:CFA
X-ORIGINAL-URL:https://www.cfali.org
X-WR-CALDESC:Events for CFA
REFRESH-INTERVAL;VALUE=DURATION:PT1H
X-Robots-Tag:noindex
X-PUBLISHED-TTL:PT1H
BEGIN:VTIMEZONE
TZID:America/New_York
BEGIN:DAYLIGHT
TZOFFSETFROM:-0500
TZOFFSETTO:-0400
TZNAME:EDT
DTSTART:20250309T070000
END:DAYLIGHT
BEGIN:STANDARD
TZOFFSETFROM:-0400
TZOFFSETTO:-0500
TZNAME:EST
DTSTART:20251102T060000
END:STANDARD
BEGIN:DAYLIGHT
TZOFFSETFROM:-0500
TZOFFSETTO:-0400
TZNAME:EDT
DTSTART:20260308T070000
END:DAYLIGHT
BEGIN:STANDARD
TZOFFSETFROM:-0400
TZOFFSETTO:-0500
TZNAME:EST
DTSTART:20261101T060000
END:STANDARD
BEGIN:DAYLIGHT
TZOFFSETFROM:-0500
TZOFFSETTO:-0400
TZNAME:EDT
DTSTART:20270314T070000
END:DAYLIGHT
BEGIN:STANDARD
TZOFFSETFROM:-0400
TZOFFSETTO:-0500
TZNAME:EST
DTSTART:20271107T060000
END:STANDARD
END:VTIMEZONE
BEGIN:VEVENT
DTSTART;TZID=America/New_York:20260205T184500
DTEND;TZID=America/New_York:20260205T204500
DTSTAMP:20260424T124943
CREATED:20260201T191040Z
LAST-MODIFIED:20260205T190653Z
UID:640-1770317100-1770324300@www.cfali.org
SUMMARY:CFA Monthly Meeting
DESCRIPTION:Mario Chery – FreckletTech Productions is inviting you to a scheduled Zoom meeting. \nTopic: CFA Monthly Meeting\nTime: Feb 5\, 2026 07:00 PM Eastern Time (US and Canada)\nJoin Zoom Meeting\nhttps://us06web.zoom.us/j/87582171783?pwd=IcqkQUVaUyIucbELQafRqdtq8Infua.1 \nView meeting insights with Zoom AI Companion\nhttps://us06web.zoom.us/launch/edl?muid=20144660-e166-4785-a726-7b7ed556cbb4 \nMeeting ID: 875 8217 1783\nPasscode: 800466 \n— \nOne tap mobile\n+19292056099\,\,87582171783#\,\,\,\,*800466# US (New York)\n+16469313860\,\,87582171783#\,\,\,\,*800466# US \nJoin instructions\nhttps://us06web.zoom.us/meetings/87582171783/invitations?signature=b5XXLw-yhcL3BmcWKNp63i8Am7wLuf_rEf5w1Hz9kO8 \n 
URL:https://www.cfali.org/event/cfa-monthly-meeting-2/
LOCATION:HHH Library\, 55 Vanderbilt Parkway\, Dix Hills\, NY\, 11746\, United States
ORGANIZER;CN="CFA - Concerned Fathers Association":MAILTO:Concerenedfathers@cfali.org
END:VEVENT
END:VCALENDAR