BEGIN:VCALENDAR
VERSION:2.0
PRODID:-//CFA - ECPv6.15.20//NONSGML v1.0//EN
CALSCALE:GREGORIAN
METHOD:PUBLISH
X-WR-CALNAME:CFA
X-ORIGINAL-URL:https://www.cfali.org
X-WR-CALDESC:Events for CFA
REFRESH-INTERVAL;VALUE=DURATION:PT1H
X-Robots-Tag:noindex
X-PUBLISHED-TTL:PT1H
BEGIN:VTIMEZONE
TZID:America/New_York
BEGIN:DAYLIGHT
TZOFFSETFROM:-0500
TZOFFSETTO:-0400
TZNAME:EDT
DTSTART:20230312T070000
END:DAYLIGHT
BEGIN:STANDARD
TZOFFSETFROM:-0400
TZOFFSETTO:-0500
TZNAME:EST
DTSTART:20231105T060000
END:STANDARD
BEGIN:DAYLIGHT
TZOFFSETFROM:-0500
TZOFFSETTO:-0400
TZNAME:EDT
DTSTART:20240310T070000
END:DAYLIGHT
BEGIN:STANDARD
TZOFFSETFROM:-0400
TZOFFSETTO:-0500
TZNAME:EST
DTSTART:20241103T060000
END:STANDARD
BEGIN:DAYLIGHT
TZOFFSETFROM:-0500
TZOFFSETTO:-0400
TZNAME:EDT
DTSTART:20250309T070000
END:DAYLIGHT
BEGIN:STANDARD
TZOFFSETFROM:-0400
TZOFFSETTO:-0500
TZNAME:EST
DTSTART:20251102T060000
END:STANDARD
BEGIN:DAYLIGHT
TZOFFSETFROM:-0500
TZOFFSETTO:-0400
TZNAME:EDT
DTSTART:20260308T070000
END:DAYLIGHT
BEGIN:STANDARD
TZOFFSETFROM:-0400
TZOFFSETTO:-0500
TZNAME:EST
DTSTART:20261101T060000
END:STANDARD
BEGIN:DAYLIGHT
TZOFFSETFROM:-0500
TZOFFSETTO:-0400
TZNAME:EDT
DTSTART:20270314T070000
END:DAYLIGHT
BEGIN:STANDARD
TZOFFSETFROM:-0400
TZOFFSETTO:-0500
TZNAME:EST
DTSTART:20271107T060000
END:STANDARD
END:VTIMEZONE
BEGIN:VEVENT
DTSTART;TZID=America/New_York:20260209T200000
DTEND;TZID=America/New_York:20260209T210000
DTSTAMP:20260424T130427
CREATED:20260113T004541Z
LAST-MODIFIED:20260113T004657Z
UID:586-1770667200-1770670800@www.cfali.org
SUMMARY:Board of Education Meeting
DESCRIPTION:Fran Greenspan Administration Center
URL:https://www.cfali.org/event/board-of-education-meeting-2/
LOCATION:FGAC\, 525 Half Hollow Road\, Dix Hills\, NY\, 11746\, United States
END:VEVENT
BEGIN:VEVENT
DTSTART;TZID=America/New_York:20260207T110000
DTEND;TZID=America/New_York:20260207T130000
DTSTAMP:20260424T130427
CREATED:20260111T165339Z
LAST-MODIFIED:20260115T190536Z
UID:551-1770462000-1770469200@www.cfali.org
SUMMARY:CFA Chess and Science
DESCRIPTION:Spring 2026 Schedule\nSaturdays 11:00 AM – 1:00 PM\nLocation: Wyandanch-Wheatley Heights Ambulance Corp\n295 Merritt Avenue\, Wyandanch\, NY 11798\n\n\n2/7 – Chess\n\n\n2/14 – No Session\n\n\n2/21 – Chess\n\n\n2/28 – CPR & First Aid with Ambulance Corp Team\n\n\n3/7 – Chess\n\n\n3/14 – Chess\n\n\n3/21 – Chess\n\n\n3/28 – Offsite: Financial Literacy Youth Program at Chase Bank\, Wyandanch\n\n\n4/4 – No Session\n\n\n4/11 – Chess\n\n\n4/18 – Chess\n\n\n4/25 – Offsite: Aviation Workshop at FSC Flight Center\, Farmingdale\n\n\n5/2 – Final Presentation Day with snacks and pizza
URL:https://www.cfali.org/event/cfa-chess-and-science/
LOCATION:Wyandanch-Wheatley Heights Ambulance Corp\, 295 Merritt Avenue\, Wyandanch\, NY\, 11798\, United States
END:VEVENT
BEGIN:VEVENT
DTSTART;TZID=America/New_York:20260205T184500
DTEND;TZID=America/New_York:20260205T204500
DTSTAMP:20260424T130427
CREATED:20260201T191040Z
LAST-MODIFIED:20260205T190653Z
UID:640-1770317100-1770324300@www.cfali.org
SUMMARY:CFA Monthly Meeting
DESCRIPTION:Mario Chery – FreckletTech Productions is inviting you to a scheduled Zoom meeting. \nTopic: CFA Monthly Meeting\nTime: Feb 5\, 2026 07:00 PM Eastern Time (US and Canada)\nJoin Zoom Meeting\nhttps://us06web.zoom.us/j/87582171783?pwd=IcqkQUVaUyIucbELQafRqdtq8Infua.1 \nView meeting insights with Zoom AI Companion\nhttps://us06web.zoom.us/launch/edl?muid=20144660-e166-4785-a726-7b7ed556cbb4 \nMeeting ID: 875 8217 1783\nPasscode: 800466 \n— \nOne tap mobile\n+19292056099\,\,87582171783#\,\,\,\,*800466# US (New York)\n+16469313860\,\,87582171783#\,\,\,\,*800466# US \nJoin instructions\nhttps://us06web.zoom.us/meetings/87582171783/invitations?signature=b5XXLw-yhcL3BmcWKNp63i8Am7wLuf_rEf5w1Hz9kO8 \n 
URL:https://www.cfali.org/event/cfa-monthly-meeting-2/
LOCATION:HHH Library\, 55 Vanderbilt Parkway\, Dix Hills\, NY\, 11746\, United States
ORGANIZER;CN="CFA - Concerned Fathers Association":MAILTO:Concerenedfathers@cfali.org
END:VEVENT
BEGIN:VEVENT
DTSTART;TZID=America/New_York:20260204T193000
DTEND;TZID=America/New_York:20260204T203000
DTSTAMP:20260424T130427
CREATED:20260201T202051Z
LAST-MODIFIED:20260201T202051Z
UID:643-1770233400-1770237000@www.cfali.org
SUMMARY:Madden Xbox Challenge Meeting
DESCRIPTION:Topic: Madden Xbox Challenge Meeting\nTime: Feb 4\, 2026 07:30 PM Eastern Time (US and Canada)\nJoin Zoom Meeting\nhttps://us06web.zoom.us/j/86945027399?pwd=0QYaYIpMBMz2GiBEcfiOxFHjHnDbRG.1 \nMeeting ID: 869 4502 7399\nPasscode: 520390 \n— \nOne tap mobile\n+19292056099\,\,86945027399#\,\,\,\,*520390# US (New York)\n+16469313860\,\,86945027399#\,\,\,\,*520390# US \nJoin instructions\nhttps://us06web.zoom.us/meetings/86945027399/invitations?signature=-0Ja01b-6JZIX2P-cHKU-ZskQpIYVbCEpO3JetlA8go \n 
URL:https://www.cfali.org/event/madden-xbox-challenge-meeting/
LOCATION:Zoom\, United States
ORGANIZER;CN="CFA - Concerned Fathers Association":MAILTO:Concerenedfathers@cfali.org
END:VEVENT
BEGIN:VEVENT
DTSTART;TZID=America/New_York:20260128T193000
DTEND;TZID=America/New_York:20260128T203000
DTSTAMP:20260424T130427
CREATED:20260122T231115Z
LAST-MODIFIED:20260122T231115Z
UID:626-1769628600-1769632200@www.cfali.org
SUMMARY:2026 Xbox/Playstation Event
DESCRIPTION:Join Zoom Meeting \nhttps://us06web.zoom.us/j/88541824907?pwd=hWQdsC35ZA6bE6Y1x9C8ORyMb2mnHm.1 \nMeeting ID: 885 4182 4907 \nPasscode: 129070 \n— \nOne tap mobile \n+19292056099\,\,88541824907#\,\,\,\,*129070# US (New York) \n+16469313860\,\,88541824907#\,\,\,\,*129070# US \nJoin instructions \nhttps://us06web.zoom.us/meetings/88541824907/invitations?signature=cIRzIEUKOHAr3heKqTY_Y38-ejWTo9Wa3mhOhtxYvtc \n──────────
URL:https://www.cfali.org/event/2026-xbox-playstation-event/
LOCATION:NY
END:VEVENT
BEGIN:VEVENT
DTSTART;TZID=America/New_York:20260122T140000
DTEND;TZID=America/New_York:20260122T160000
DTSTAMP:20260424T130427
CREATED:20260111T165723Z
LAST-MODIFIED:20260112T235649Z
UID:556-1769090400-1769097600@www.cfali.org
SUMMARY:MCWH Black History Event
DESCRIPTION:
URL:https://www.cfali.org/event/mcwh-black-history-event/
LOCATION:NY
END:VEVENT
BEGIN:VEVENT
DTSTART;TZID=America/New_York:20260121T190000
DTEND;TZID=America/New_York:20260121T210000
DTSTAMP:20260424T130427
CREATED:20260112T234208Z
LAST-MODIFIED:20260112T234417Z
UID:574-1769022000-1769029200@www.cfali.org
SUMMARY:Kyle's "Men's Talk 7 Panel
DESCRIPTION:Men’s Talk 7 \nKyle Booker (CFA member) \nBuffalo Wild Wings – 1080 Broadhollow Rd. Farmingdale\, NY 11735
URL:https://www.cfali.org/event/kyles-mens-talk-7-panel/
LOCATION:Buffalo Wild Wings\, 1080 Braodhollow Rd\, Farmingdale\, NY\, 11735\, United States
END:VEVENT
BEGIN:VEVENT
DTSTART;TZID=America/New_York:20260112T200000
DTEND;TZID=America/New_York:20260112T210000
DTSTAMP:20260424T130427
CREATED:20260112T233259Z
LAST-MODIFIED:20260112T235650Z
UID:572-1768248000-1768251600@www.cfali.org
SUMMARY:Board of Education Meeting
DESCRIPTION:Board of Education Regular Meeting 8:00pm at Otsego Elem (Exec Session 6:30pm) \n 
URL:https://www.cfali.org/event/board-of-education-meeting/
LOCATION:Otsego\, 55 Otsego Ave\, Dix Hills\, NY\, 11746\, United States
END:VEVENT
BEGIN:VEVENT
DTSTART;TZID=America/New_York:20260108T190000
DTEND;TZID=America/New_York:20260108T210000
DTSTAMP:20260424T130427
CREATED:20260111T164957Z
LAST-MODIFIED:20260112T235651Z
UID:549-1767898800-1767906000@www.cfali.org
SUMMARY:CFA Meeting
DESCRIPTION:Library room 314
URL:https://www.cfali.org/event/cfa-meeting/
LOCATION:NY
END:VEVENT
BEGIN:VEVENT
DTSTART;TZID=America/New_York:20260105T190000
DTEND;TZID=America/New_York:20260105T200000
DTSTAMP:20260424T130427
CREATED:20260111T164835Z
LAST-MODIFIED:20260112T235651Z
UID:547-1767639600-1767643200@www.cfali.org
SUMMARY:CFA Monthly Meeting
DESCRIPTION:
URL:https://www.cfali.org/event/cfa-monthly-meeting/
LOCATION:NY
END:VEVENT
BEGIN:VEVENT
DTSTART;TZID=America/New_York:20260104T120000
DTEND;TZID=America/New_York:20260104T160000
DTSTAMP:20260424T130427
CREATED:20260111T164734Z
LAST-MODIFIED:20260111T164734Z
UID:545-1767528000-1767542400@www.cfali.org
SUMMARY:Kwanzaa program
DESCRIPTION:
URL:https://www.cfali.org/event/kwanzaa-program/
LOCATION:NY
END:VEVENT
BEGIN:VEVENT
DTSTART;TZID=America/New_York:20241011T190000
DTEND;TZID=America/New_York:20241012T000000
DTSTAMP:20260424T130427
CREATED:20240906T165700Z
LAST-MODIFIED:20240906T165700Z
UID:271-1728673200-1728691200@www.cfali.org
SUMMARY:CFA 30th Annual Gala
DESCRIPTION:CFA presents our 30th Annual Gala Event
URL:https://www.cfali.org/event/cfa-30th-annual-gala/
LOCATION:Crest Hollow Country Club\, 8325 Jericho Turnpike\, Woodbury\, NY\, 11797\, United States
ORGANIZER;CN="CFA - Concerned Fathers Association":MAILTO:Concerenedfathers@cfali.org
END:VEVENT
END:VCALENDAR